BEGIN:VCALENDAR
PRODID:-//Pixl8//Eventfolio//EN
VERSION:2.0
X-WR-TIMEZONE:Europe/Brussels
CALSCALE:GREGORIAN
METHOD:PUBLISH
CLASS:PUBLIC
BEGIN:VTIMEZONE
TZID:Europe/Brussels
LAST-MODIFIED:20201011T015911Z
TZURL:http://tzurl.org/zoneinfo-outlook/Europe/Brussels
X-LIC-LOCATION:Europe/Brussels
BEGIN:DAYLIGHT
TZNAME:CEST
TZOFFSETFROM:+0100
TZOFFSETTO:+0200
DTSTART:19700329T020000
RRULE:FREQ=YEARLY;BYMONTH=3;BYDAY=-1SU
END:DAYLIGHT
BEGIN:STANDARD
TZNAME:CET
TZOFFSETFROM:+0200
TZOFFSETTO:+0100
DTSTART:19701025T030000
RRULE:FREQ=YEARLY;BYMONTH=10;BYDAY=-1SU
END:STANDARD
END:VTIMEZONE
BEGIN:VEVENT
DTSTART;TZID=Europe/Brussels:20251202T150000
DTEND;TZID=Europe/Brussels:20251202T163000
DTSTAMP:20260425T140332Z
UID:{FBEB01C3-7BBB-4619-ABE452C73005CD1F}
LOCATION:Online
SUMMARY:Young Professionals webinar on Detection Technologies
DESCRIPTION:Euralarm Young Professionals are invited to join an exclusive webinar on Detection Technologies, exploring not only the  basics of detection technologies but also the latest developments, innovations, and future directions in this essential field.\n
 \n
 Event details: https://www.euralarm.org/news-events/ems-event-calendar/young-professionals-webinar-on-detection-technologies.html
PRIORITY:1
END:VEVENT
END:VCALENDAR