BEGIN:VCALENDAR
PRODID:-//Pixl8//Eventfolio//EN
VERSION:2.0
X-WR-TIMEZONE:Europe/Brussels
CALSCALE:GREGORIAN
METHOD:PUBLISH
CLASS:PUBLIC
BEGIN:VTIMEZONE
TZID:Europe/Brussels
LAST-MODIFIED:20201011T015911Z
TZURL:http://tzurl.org/zoneinfo-outlook/Europe/Brussels
X-LIC-LOCATION:Europe/Brussels
BEGIN:DAYLIGHT
TZNAME:CEST
TZOFFSETFROM:+0100
TZOFFSETTO:+0200
DTSTART:19700329T020000
RRULE:FREQ=YEARLY;BYMONTH=3;BYDAY=-1SU
END:DAYLIGHT
BEGIN:STANDARD
TZNAME:CET
TZOFFSETFROM:+0200
TZOFFSETTO:+0100
DTSTART:19701025T030000
RRULE:FREQ=YEARLY;BYMONTH=10;BYDAY=-1SU
END:STANDARD
END:VTIMEZONE
BEGIN:VEVENT
DTSTART;TZID=Europe/Brussels:20251118T160000
DTEND;TZID=Europe/Brussels:20251118T170000
DTSTAMP:20260425T141209Z
UID:{06E89F88-E43D-4F1F-8955E3DA20FFED86}
LOCATION:Online
SUMMARY:Webinar Selection of fire protection systems for data centers
DESCRIPTION:Designed for data center operators, IT stakeholders, and fire industry professionals, this session will help you navigate the complex landscape of regulations, technologies, and best practices to safeguard critical infrastructure and data.\n
 \n
 Event details: https://www.euralarm.org/news-events/ems-event-calendar/webinar-selection-of-fire-protection-systems-for-data-centers.html
PRIORITY:1
END:VEVENT
END:VCALENDAR